BEGIN:VCALENDAR
VERSION:2.0
PRODID:-//Youth Work Central - ECPv6.15.20//NONSGML v1.0//EN
CALSCALE:GREGORIAN
METHOD:PUBLISH
X-WR-CALNAME:Youth Work Central
X-ORIGINAL-URL:https://youthworkcentral.org
X-WR-CALDESC:Events for Youth Work Central
REFRESH-INTERVAL;VALUE=DURATION:PT1H
X-Robots-Tag:noindex
X-PUBLISHED-TTL:PT1H
BEGIN:VTIMEZONE
TZID:UTC
BEGIN:STANDARD
TZOFFSETFROM:+0000
TZOFFSETTO:+0000
TZNAME:UTC
DTSTART:20240101T000000
END:STANDARD
END:VTIMEZONE
BEGIN:VEVENT
DTSTART;VALUE=DATE:20250818
DTEND;VALUE=DATE:20250823
DTSTAMP:20260424T073845
CREATED:20250430T141042Z
LAST-MODIFIED:20250818T184717Z
UID:10000162-1755475200-1755907199@youthworkcentral.org
SUMMARY:Youth Worker Certificate Training
DESCRIPTION:August 18th – August 22nd\, 2025 \n9:30 AM – 4:30 PM \nTraining Location:  \nHealth Resources in Action \n2 Boylston Street\, 4th Floor \nBoston\, MA 02116 \nTraining Fee: $925 per person \nWe’re excited to share that this training is now eligible for full reimbursement through the Massachusetts Workforce Training Fund Express Program. If your organization is a Massachusetts-based nonprofit with fewer than 100 employees\, it may qualify! If your organization does not qualify for reimbursement\, a discounted rate is available.\nPlease click here to view the infographic outlining next steps for reimbursement.\n\nA core value of our work at the BEST Initiative is positive youth development. We believe in the voices and power of young people\, and train youth workers to support their youth in all areas of their growth. With that in mind\, we are offering an in-person intensive Youth Worker Certificate Training. This 32-hour training provides youth workers with the tools and knowledge to better support the young people they serve. Participants will dive into key topics such as positive youth outcomes\, trauma-informed practices\, collective resilience\, increasing youth participation and engagement\, and other critical issues impacting youth work. \n\nTo see a PDF version of the training flyer\, please click here.\nREGISTRATION IS OPEN!\nPlease Note: Registration is on a first come\, first served basis.  We limit 3 people per organization. Thank you for your understanding. 
URL:https://youthworkcentral.org/event/082025/
END:VEVENT
END:VCALENDAR