BEGIN:VCALENDAR
VERSION:2.0
PRODID:-//Youth Work Central - ECPv6.15.20//NONSGML v1.0//EN
CALSCALE:GREGORIAN
METHOD:PUBLISH
X-ORIGINAL-URL:https://youthworkcentral.org
X-WR-CALDESC:Events for Youth Work Central
REFRESH-INTERVAL;VALUE=DURATION:PT1H
X-Robots-Tag:noindex
X-PUBLISHED-TTL:PT1H
BEGIN:VTIMEZONE
TZID:UTC
BEGIN:STANDARD
TZOFFSETFROM:+0000
TZOFFSETTO:+0000
TZNAME:UTC
DTSTART:20220101T000000
END:STANDARD
END:VTIMEZONE
BEGIN:VEVENT
DTSTART;TZID=UTC:20231128T100000
DTEND;TZID=UTC:20231128T130000
DTSTAMP:20260425T160946
CREATED:20231031T185032Z
LAST-MODIFIED:20231113T183004Z
UID:10000144-1701165600-1701176400@youthworkcentral.org
SUMMARY:Youth Development 101 Day One
DESCRIPTION:Tuesday November 28th\, 2023 \n10:00 AM – 1:00 PM \nTraining Location:  \nAsian Community Development Corporation \n38 Oak Street\, Boston\, MA 02111 \nTraining Fee: $250 per person \n*We do not offer scholarships for our trainings\, but do offer discounts on a case-by-case basis.  If this fee presents a challenge\, please email us at best@hria.org. \nPlease note: This training will be held in person\, and we are following local\, state\, and federal health guidelines in relation to COVID-19.  You can review our COVID-19 Safety Policy here.\n\n  \nA core value of our work at the BEST Initiative is Positive Youth Development. We believe in the voices and power of young people\, and train youth workers to support their youth in all areas of their growth. With that in mind\, we are offering this session of Youth Development 101\, a two-day\, three-hour per day exploration of youth development principles and practices. Participants will learn an appropriate common language for discussing youth development\, and will explore information about positive youth outcomes\, developmental outcomes\, and resiliency. \n  \n\nTo view a PDF version of the flyer\, please click here.\nREGISTRATION IS NOW OPEN. REGISTER HERE!
URL:https://youthworkcentral.org/event/youth-development-101-day-one/
END:VEVENT
BEGIN:VEVENT
DTSTART;TZID=UTC:20231129T100000
DTEND;TZID=UTC:20231129T130000
DTSTAMP:20260425T160946
CREATED:20231031T185103Z
LAST-MODIFIED:20231113T183028Z
UID:10000145-1701252000-1701262800@youthworkcentral.org
SUMMARY:Youth Development 101 Day Two
DESCRIPTION:Wednesday November 29th\, 2023 \n10:00 AM – 1:00 PM \nTraining Location:  \nAsian Community Development Corporation \n38 Oak Street\, Boston\, MA 02111 \nTraining Fee: $250 per person \n*We do not offer scholarships for our trainings\, but do offer discounts on a case-by-case basis.  If this fee presents a challenge\, please email us at best@hria.org. \nPlease note: This training will be held in person\, and we are following local\, state\, and federal health guidelines in relation to COVID-19.  You can review our COVID-19 Safety Policy here.\n\n  \nA core value of our work at the BEST Initiative is Positive Youth Development. We believe in the voices and power of young people\, and train youth workers to support their youth in all areas of their growth. With that in mind\, we are offering this session of Youth Development 101\, a two-day\, three-hour per day exploration of youth development principles and practices. Participants will learn an appropriate common language for discussing youth development\, and will explore information about positive youth outcomes\, developmental outcomes\, and resiliency. \n  \n\nTo view a PDF version of the flyer\, please click here.\nREGISTRATION IS NOW OPEN. REGISTER HERE!
URL:https://youthworkcentral.org/event/youth-development-101-day-two-2/
END:VEVENT
END:VCALENDAR