BEGIN:VCALENDAR
VERSION:2.0
PRODID:-//Youth Work Central - ECPv6.15.20//NONSGML v1.0//EN
CALSCALE:GREGORIAN
METHOD:PUBLISH
X-WR-CALNAME:Youth Work Central
X-ORIGINAL-URL:https://youthworkcentral.org
X-WR-CALDESC:Events for Youth Work Central
REFRESH-INTERVAL;VALUE=DURATION:PT1H
X-Robots-Tag:noindex
X-PUBLISHED-TTL:PT1H
BEGIN:VTIMEZONE
TZID:UTC
BEGIN:STANDARD
TZOFFSETFROM:+0000
TZOFFSETTO:+0000
TZNAME:UTC
DTSTART:20220101T000000
END:STANDARD
END:VTIMEZONE
BEGIN:VEVENT
DTSTART;TZID=UTC:20230418T083000
DTEND;TZID=UTC:20230421T173000
DTSTAMP:20260426T031651
CREATED:20230301T175611Z
LAST-MODIFIED:20230413T173839Z
UID:10000140-1681806600-1682098200@youthworkcentral.org
SUMMARY:Youth Worker Certificate Training
DESCRIPTION:Tuesday April 18th through April 21th\, 2023 \n8:30 AM – 5:30 PM each day \nIn-person Training:  \nHealth Resources in Action  \n2 Boylston Street\, 4th Floor\, Boston\, MA 02116 \nTraining Fee: $550 per person \n*We do not offer scholarships for our trainings but do offer discounts on a case-by-case basis.  If this fee presents a challenge\, please email us at best@hria.org. \nPlease note: This training will be held in person\, and we are following local\, state\, and federal health guidelines in relation to COVID-19.  You can review our COVID-19 Safety Policy here.\nThere are limited spots in this training\, we kindly ask that you limit registration to 1-2 people per organization \n  \nThis four-day\, 32-hour training is based on the nationally recognized Advancing Youth\nDevelopment curriculum. This training provides participants with a grounding in the\nPositive Youth Development Approach. Participants are introduced to an appropriate\ncommon language for discussing youth development\, and will explore information about\npositive youth outcomes\, healthy relationships and boundaries\, resiliency and other critical issues.\n\nTo view a PDF version of the flyer\, please click here.\nREGISTRATION IS NOW CLOSED
URL:https://youthworkcentral.org/event/youth-worker-certificate-training/
LOCATION:Health Resources in Action\, 2 Boylston Street\, 4th floor\, Boston\, MA\, 02116
END:VEVENT
END:VCALENDAR