BEGIN:VCALENDAR
VERSION:2.0
PRODID:-//Youth Work Central - ECPv6.15.20//NONSGML v1.0//EN
CALSCALE:GREGORIAN
METHOD:PUBLISH
X-WR-CALNAME:Youth Work Central
X-ORIGINAL-URL:https://youthworkcentral.org
X-WR-CALDESC:Events for Youth Work Central
REFRESH-INTERVAL;VALUE=DURATION:PT1H
X-Robots-Tag:noindex
X-PUBLISHED-TTL:PT1H
BEGIN:VTIMEZONE
TZID:UTC
BEGIN:STANDARD
TZOFFSETFROM:+0000
TZOFFSETTO:+0000
TZNAME:UTC
DTSTART:20160101T000000
END:STANDARD
END:VTIMEZONE
BEGIN:VEVENT
DTSTART;VALUE=DATE:20180925
DTEND;VALUE=DATE:20181114
DTSTAMP:20260424T114016
CREATED:20140829T142647Z
LAST-MODIFIED:20181001T164457Z
UID:10000082-1537833600-1542153599@youthworkcentral.org
SUMMARY:Fall 2018 Youth Worker Certificate Training
DESCRIPTION:8 Tuesdays 9:30AM-2:00PM \nSept 25th – Nov 13th \nTraining Fee: $450pp** \n(no scholarships available) \n**This rate is the Boston Subsidized Rate \n(only available through Health Resources in Action hosted community trainings thanks to funding from United Way of Mass Bay and Merrimack Valley)** \nPlease click here for PDF version of the flyer.\nThis eight-session\, 32-hour training is based on the nationally recognized Advancing Youth Development curriculum.  This training provides participants with grounding in the Positive Youth Development Approach.  Participants are introduced to an appropriate common language for discussing youth development\, and will explore information about positive youth outcomes\, healthy relationships and boundaries\, cultural competence\, adolescent development\, and other critical issues. \nRegistration is Closed \n 
URL:https://youthworkcentral.org/event/fall-ywc-training-2018/
END:VEVENT
BEGIN:VEVENT
DTSTART;VALUE=DATE:20180509
DTEND;VALUE=DATE:20180510
DTSTAMP:20260424T114016
CREATED:20140509T172919Z
LAST-MODIFIED:20180508T194841Z
UID:10000081-1525824000-1525910399@youthworkcentral.org
SUMMARY:Positive Behavior Management Training- Registration is Closed.
DESCRIPTION:Wednesday\, May 9th \n9:30AM-4:00PM \nTraining Fee: $125pp \n(no scholarships offered)  \nThis 6-hour training focuses on youth workers’ role in deescalating behavioral situations with youth using an asset-based approached.  This training will help participants practice probing techniques to understand the underlying issues motivating youth’s behavior.  Participants will explore individual practices and appropriate behavior management strategies that help promote positive behavior. \nRegistration is closed. 
URL:https://youthworkcentral.org/event/pos-beh-mgt-training-2018/
END:VEVENT
BEGIN:VEVENT
DTSTART;VALUE=DATE:20180329
DTEND;VALUE=DATE:20180330
DTSTAMP:20260424T114016
CREATED:20141022T172934Z
LAST-MODIFIED:20180328T021152Z
UID:10000089-1522281600-1522367999@youthworkcentral.org
SUMMARY:Building and Measuring Positive Youth Outcomes in your Program Training - Registration is Closed
DESCRIPTION:Thursday\, March 29th  \n9:30AM – 3:30PM \nTraining Fee: $125pp \n(no scholarships available) \nPlease click here for the PDF version of the flyer. \nThis 4-hour training focuses on exploring positive youth outcomes with a special focus on developmental outcomes for youth programs.  Participants will utilize tools that will help better articulate developmental outcomes and indicators\, specifically\, to use in evaluating their programs.  This training will also provide participants with an opportunity to examine how they are integrating those outcomes through intentional practice and approaches. \nRegistration is closed.
URL:https://youthworkcentral.org/event/building-measuring-pyo-training-2018/
END:VEVENT
BEGIN:VEVENT
DTSTART;VALUE=DATE:20180307
DTEND;VALUE=DATE:20180329
DTSTAMP:20260424T114016
CREATED:20170901T163628Z
LAST-MODIFIED:20180328T021108Z
UID:10000093-1520380800-1522281599@youthworkcentral.org
SUMMARY:Youth Development in the Arts: A Youth Worker Artist Training - Cancelled
DESCRIPTION:*New Offering* \nWednesdays\, March 7th \, 14th \, 22nd (Thursday)\, 28th \n9:30AM-2:00PM \nTraining Fee: $300pp \n(no scholarships offered)  \nA 4-session\, 16 hour training that introduces youth workers and teaching artists ways to reinforce the natural alignment between youth development principles and strong arts learning experiences. The training team will include a trainer certified in the youth development approach and experienced artist. \nTraining has been cancelled due to low enrollment.
URL:https://youthworkcentral.org/event/youth-development-in-the-arts-a-youth-worker-artist-training/
END:VEVENT
BEGIN:VEVENT
DTSTART;VALUE=DATE:20180207
DTEND;VALUE=DATE:20180209
DTSTAMP:20260424T114016
CREATED:20140509T172556Z
LAST-MODIFIED:20180226T144143Z
UID:10000080-1517961600-1518134399@youthworkcentral.org
SUMMARY:What We Bring: White Youth Workers in Communities of Color Training - Registration is closed.
DESCRIPTION:*Now Two Days!!!* \nWhat We Bring: White Youth Workers in Communities of Color Training \n2 Days\, February 7th and 8th \n10:00AM-3:00PM \nTraining Fee: $200pp \n(no scholarships available) \nPlease click here for the PDF version of the flyer. \nGood youth work requires a strong sense of self on the part of the youth worker\, but all too often\, whiteness is awkward for white youth workers (and youth) to talk about.  This 6-hour training will offer participants room to talk about the challenges of addressing\, confronting and embracing their identities as white youth workers\, their reasons for working in communities of color\, and what they can’t and shouldn’t bring to the work.  Scenarios and other interactive tools will be used to help explore what best practices are in terms of talking with youth about race\, addressing power dynamics\, building alliances with youth workers of color\, and sharing approaches and tools to help navigate challenges that come up in this work. \nRegistration is closed.
URL:https://youthworkcentral.org/event/white-yw-training-2018/
END:VEVENT
BEGIN:VEVENT
DTSTART;VALUE=DATE:20171212
DTEND;VALUE=DATE:20171213
DTSTAMP:20260424T114016
CREATED:20141014T210454Z
LAST-MODIFIED:20171211T190146Z
UID:10000084-1513036800-1513123199@youthworkcentral.org
SUMMARY:Marijuana and Youth: The Impact of Changing Law and Strategies to Address Use - Registration Closed.
DESCRIPTION:*NEW OFFERING*  \nTuesday\, December 12th  \n9:30AM-3:30PM \nTraining Fee: $125pp \n(no scholarships available) \n\nThis (6-hour) training will provide us with a basic understanding of the new MA Marijuana law: what’s legal\, what isn’t and the possible legal implications for young people.  Additionally\, participants will have an opportunity to practice Motivational Interviewing skills they can put to use when discussing marijuana use with youth in their programs. This new law will impact youth programming and this training will provide youth workers a space to explore those implications and share strategies to support the health and well-being of their young people.\n\n\nRegistration is closed.
URL:https://youthworkcentral.org/event/marijuana-youth-training-2017/
END:VEVENT
BEGIN:VEVENT
DTSTART;VALUE=DATE:20171113
DTEND;VALUE=DATE:20171115
DTSTAMP:20260424T114016
CREATED:20151007T131644Z
LAST-MODIFIED:20180226T144037Z
UID:10000091-1510531200-1510703999@youthworkcentral.org
SUMMARY:Engaging Youth in Preventing Opioid Addiction Training - Registration Closed.
DESCRIPTION:A Collaboration between Blake Works and  \nthe BEST Initiative/Health Resources in Action \nMonday\, Nov 13th and Tuesday\, Nov 14th \n8:00-4:00PM \nTraining Fee: $999pp* \n* Training fee is non-refundable after 10/13/17. Cancellations made prior to 10/13/17 will receive a partial refund. Please contact Blake Work prior to booking airline reservations. \nRegistration Now Open! \n**For any questions\, please contact** \nKettie MacLean\nBlake Works\n978-282-1663\nkmaclean@wordscanwork.com\nAt this highly interactive two-day training\, presented by Blake Works and Health Resources in Action (HRiA)\, you will build skills and gain knowledge needed to more effectively communicate with youth about the opioid crisis. Our popoular training now includes the latest research about fentanyl and marijuana. \nYou’ll also learn proven strategies for engaging youth in substance abuse prevention activities \, plus best practices for incorporating our evidence-based DVD Drugs: True Stories into your programming. \nParticipants will receive a copy of Drugs: True Stories (25-min with discussion guide). Drugs: True Stories is included in SAMHSA’s National Registry of Evidence-based Programs and Practices (NREPP). \nFeatured Guest Expert \nNationally recognized substance abuse expert Dr. Kevin Hill\, Assistant Professor at Harvard Medical School\, Director of the Division of Alcohol and Drug Abuse\, McLean Hospital joins Words Can Workcreator Jeanne Blake for an interview and your questions about his research on youth and marijuana use. \nPresenters \nJeanne Blake\, Creator\, Words Can Work; Producer\, Drugs: True Stories; Affiliated faculty member\, Harvard Medical School’s Division on Addiction \nLaurie Jo Wallace\, Director\, Training and Capacity Building\, HRiA; 25 years of experience in youth development\, substance abuse prevention and coalition building \nWho Should Attend \nPrevention professionals\, coalition members\, public health professionals\, program supervisors and managers\, school health and support staff\, youth workers\, after-school personnel\, counselors and educators\n \nSpecial Hotel Offer \nThe Residence Inn by Marriott Boston Harbor on Tudor Wharf is offering our training participants a discounted room rate of $249 (plus tax) per night. This rate requires a two-night minimum stay booked prior to 10/13/16. For reservations call 617.242.9000. Reference Blake Works Room Block or visit http://bit.ly/2bjEUaV to book online \n 
URL:https://youthworkcentral.org/event/youth-preventing-opioid-addiction-2016/
END:VEVENT
END:VCALENDAR