BEGIN:VCALENDAR
VERSION:2.0
PRODID:-//Youth Work Central - ECPv6.15.20//NONSGML v1.0//EN
CALSCALE:GREGORIAN
METHOD:PUBLISH
X-ORIGINAL-URL:https://youthworkcentral.org
X-WR-CALDESC:Events for Youth Work Central
REFRESH-INTERVAL;VALUE=DURATION:PT1H
X-Robots-Tag:noindex
X-PUBLISHED-TTL:PT1H
BEGIN:VTIMEZONE
TZID:UTC
BEGIN:STANDARD
TZOFFSETFROM:+0000
TZOFFSETTO:+0000
TZNAME:UTC
DTSTART:20230101T000000
END:STANDARD
END:VTIMEZONE
BEGIN:VEVENT
DTSTART;TZID=UTC:20240130T100000
DTEND;TZID=UTC:20240130T130000
DTSTAMP:20260425T161409
CREATED:20231211T182511Z
LAST-MODIFIED:20231214T181411Z
UID:10000147-1706608800-1706619600@youthworkcentral.org
SUMMARY:Supervising Youth Training Day 1
DESCRIPTION: Tuesday January 30th\, 2024 \n10:00 AM – 1:00 PM \nTraining Location:  \nOnline Training \nTraining Fee: $200 per person \n*We do not offer scholarships for our trainings\, but do offer discounts on a case-by-case basis.  If this fee presents a challenge\, please email us at best@hria.org. \n\nPlease Note: Registration is on a first come\, first served basis.  Thank you for your understanding. \nA core value of our work at the BEST Initiative is Positive Youth Development. We believe in the voices and power of young people\, and train youth workers to support their youth in all areas of their growth. With that in mind\, we are offering a  virtual Supervising Youth training\, This 2-day\, six-hour training will focus on supervision and program management in youth work.  It addresses the roles and responsibilities of supervisors\, communication\, work relationships\, program management and the specific supervision of youth workers within a youth development framework.   \n\nTo view a PDF version of the flyer\, please click here.\nREGISTRATION IS NOW OPEN. REGISTER HERE!
URL:https://youthworkcentral.org/event/supervising-youth-training-day-1/
END:VEVENT
BEGIN:VEVENT
DTSTART;TZID=UTC:20240201T100000
DTEND;TZID=UTC:20240201T130000
DTSTAMP:20260425T161409
CREATED:20231211T182437Z
LAST-MODIFIED:20231214T181441Z
UID:10000146-1706781600-1706792400@youthworkcentral.org
SUMMARY:Supervising Youth Training Day 2
DESCRIPTION:Thursday February 1st\, 2024 \n10:00 AM – 1:00 PM \nTraining Location:  \nOnline Training \nTraining Fee: $200 per person \n*We do not offer scholarships for our trainings\, but do offer discounts on a case-by-case basis.  If this fee presents a challenge\, please email us at best@hria.org. \n\nPlease Note: Registration is on a first come\, first served basis. Thank you for your understanding. \nA core value of our work at the BEST Initiative is Positive Youth Development. We believe in the voices and power of young people\, and train youth workers to support their youth in all areas of their growth. With that in mind\, we are offering a virtual Supervising Youth training\, This 2-day\, six-hour training will focus on supervision and program management in youth work.  It addresses the roles and responsibilities of supervisors\, communication\, work relationships\, program management and the specific supervision of youth workers within a youth development framework.   \n\nTo view a PDF version of the flyer\, please click here.\nREGISTRATION IS NOW OPEN. REGISTER HERE!
URL:https://youthworkcentral.org/event/supervising-youth-training-day-2/
END:VEVENT
BEGIN:VEVENT
DTSTART;TZID=UTC:20240228T100000
DTEND;TZID=UTC:20240228T130000
DTSTAMP:20260425T161409
CREATED:20240129T221349Z
LAST-MODIFIED:20240129T221349Z
UID:10000148-1709114400-1709125200@youthworkcentral.org
SUMMARY:Building Belonging Spaces Day 1
DESCRIPTION: Wednesday February 28th\, 2024 \n10:00 AM – 1:00 PM \nTraining Location:  \nOnline Training \nTraining Fee: $200 per person \n\nPlease Note: Registration is on a first come\, first served basis.  Thank you for your understanding. \nA core value of our work at the BEST Initiative is Positive Youth Development. We believe in the voices and power of young people\, and train youth workers to support their youth in all areas of their growth. With that in mind\, we are offering a virtual Building Belonging Spaces training\, This 2-day\, six-hour training will focus on exploring the concept of cultural humility\, and how our values and experiences play a big role in how we operate in programs.  By centering positive youth development in this conversation\, the trainers will help participants along their ever-evolving journey of cultural humility and creating and cultivating spaces that are open and inclusive for young people to feel safe. \n\nTo view a PDF version of the flyer\, please click here.\nREGISTRATION IS NOW OPEN. REGISTER HERE!
URL:https://youthworkcentral.org/event/building-belonging-spaces-day-1/
END:VEVENT
BEGIN:VEVENT
DTSTART;TZID=UTC:20240229T100000
DTEND;TZID=UTC:20240229T130000
DTSTAMP:20260425T161409
CREATED:20240129T221426Z
LAST-MODIFIED:20240129T221426Z
UID:10000149-1709200800-1709211600@youthworkcentral.org
SUMMARY:Building Belonging Spaces Day 2
DESCRIPTION:Thursday February 29th\, 2024 \n10:00 AM – 1:00 PM \nTraining Location:  \nOnline Training \nTraining Fee: $200 per person \n\nPlease Note: Registration is on a first come\, first served basis.  Thank you for your understanding. \nA core value of our work at the BEST Initiative is Positive Youth Development. We believe in the voices and power of young people\, and train youth workers to support their youth in all areas of their growth. With that in mind\, we are offering a virtual Building Belonging Spaces training\, This 2-day\, six-hour training will focus on exploring the concept of cultural humility\, and how our values and experiences play a big role in how we operate in programs.  By centering positive youth development in this conversation\, the trainers will help participants along their ever-evolving journey of cultural humility and creating and cultivating spaces that are open and inclusive for young people to feel safe. \n\nTo view a PDF version of the flyer\, please click here.\nREGISTRATION IS NOW OPEN. REGISTER HERE!
URL:https://youthworkcentral.org/event/building-belonging-spaces-day-2/
END:VEVENT
BEGIN:VEVENT
DTSTART;TZID=UTC:20240321T100000
DTEND;TZID=UTC:20240321T140000
DTSTAMP:20260425T161409
CREATED:20240212T011908Z
LAST-MODIFIED:20240314T154025Z
UID:10000150-1711015200-1711029600@youthworkcentral.org
SUMMARY:Facilitation and Group Management Training
DESCRIPTION:Thursday March 21st\, 2024 \n10:00 AM – 2:00 PM \nTraining Location:  \nRoxbury Tenants of Harvard \n835 Huntington Avenue \nBoston\, MA 02115 \nTraining Fee: $225 per person \n\nPlease Note: Registration is on a first come\, first served basis.  Thank you for your understanding. \nA core value of our work at the BEST Initiative is Positive Youth Development. We believe in the voices and power of young people\, and train youth workers to support their youth in all areas of their growth. With that in mind\, we are offering a in-person Facilitation and Group Management training\, This 4-hour training will provide participants with the critical elements for a successful training and workshop\, and will offer tools and skills for positive behavior management. By centering strong  management skills in this conversation\, participants will improve techniques for addressing challenging situations and review the elements of and create an engaging workshop agenda.   \n\nTo view a PDF version of the flyer\, please click here.\nREGISTRATION IS NOW CLOSED.
URL:https://youthworkcentral.org/event/facilitation-and-group-management-training/
END:VEVENT
BEGIN:VEVENT
DTSTART;TZID=UTC:20240423T093000
DTEND;TZID=UTC:20240423T143000
DTSTAMP:20260425T161409
CREATED:20240226T193701Z
LAST-MODIFIED:20240301T174314Z
UID:10000151-1713864600-1713882600@youthworkcentral.org
SUMMARY:Youth Worker Certificate Training
DESCRIPTION:Weekly every Tuesday  \nApril 23rd -June 11th 2024 \n9:30 AM – 2:00 PM \nTraining Location:  \nHealth Resources In Action \n2 Boylston street\, 4th Floor \nBoston\, MA 02116 \nTraining Fee: $750 per person \n\nPlease Note: Registration is on a first come\, first served basis.  Thank you for your understanding. \nA core value of our work at the BEST Initiative is Positive Youth Development. We believe in the voices and power of young people\, and train youth workers to support their youth in all areas of their growth. With that in mind\, we are offering a in-person comprehensive Youth Worker Certificate Training\, This eight-session\, 32-hour training is based on the nationally recognized Advancing Youth Development curriculum. This training provides participants with grounding in the Positive Youth Development Approach. Participants are introduced to an appropriate common language for discussing youth development\, and will explore information about positive youth outcomes\, healthy relationships and boundaries\, cultural responsiveness\, trauma informed practices\, collective resilience\, and other critical issues. \n\nTo view a PDF version of the flyer\, please click here.\nREGISTRATION IS OPEN. REGISTER HERE!
URL:https://youthworkcentral.org/event/youth-worker-certificate-training-2/
END:VEVENT
BEGIN:VEVENT
DTSTART;TZID=UTC:20240501T093000
DTEND;TZID=UTC:20240501T140000
DTSTAMP:20260425T161409
CREATED:20240226T195154Z
LAST-MODIFIED:20240424T161752Z
UID:10000152-1714555800-1714572000@youthworkcentral.org
SUMMARY:Supervising Across Difference Training Day 1
DESCRIPTION: Wednesday May 1st\, 2024 \n9:30 AM – 2:00 PM \nTraining Location: \nRoxbury Tenants of Harvard \n835 Huntington Avenue \nBoston\, MA 02115 \nTraining Fee: $325 per person \n\nPlease Note: Registration is on a first come\, first served basis.  Thank you for your understanding. \nA core value of our work at the BEST Initiative is Positive Youth Development. We believe in the voices and power of young people\, and train youth workers to support their youth in all areas of their growth. With that in mind\, we are in-person Supervising Across Difference training\, This 2-day\, nine-hour training will offer core supervision principles to support supervisors and managers of all levels to be equipped with the tools to supervise across difference (age\, race\, ability\, class\, education\, etc.). This includes key roles and responsibilities of a supervisor\, a framework for situational supervision\, tools for managing conflict\, and communication skills. Lastly\,  participants will explore their own aspects of identity\, how it relates to power and privilege\, and will apply these insights to supervision tools like active listening\, power-sharing and decision making.  \n\nTo view a PDF version of the flyer\, please click here.\nREGISTRATION IS CLOSED
URL:https://youthworkcentral.org/event/supervising-across-difference-training-day-1/
END:VEVENT
BEGIN:VEVENT
DTSTART;TZID=UTC:20240516T093000
DTEND;TZID=UTC:20240516T140000
DTSTAMP:20260425T161409
CREATED:20240226T214431Z
LAST-MODIFIED:20240516T132024Z
UID:10000154-1715851800-1715868000@youthworkcentral.org
SUMMARY:Trauma Informed Care and Self-Care for Youth
DESCRIPTION:Thursday May 16th\, 2024 \n9:30 AM – 2:00 PM \nTraining Location: \nRoxbury Tenants of Harvard \n835 Huntington Avenue \nBoston\, MA 02115 \nTraining Fee: $225 per person \n\nPlease Note: Registration is on a first come\, first served basis.  Thank you for your understanding. \nA core value of our work at the BEST Initiative is Positive Youth Development. We believe in the voices and power of young people\, and train youth workers to support their youth in all areas of their growth. With that in mind\, we are in-person Trauma Informed Care and Self Care for Youth Training\, This one-day\, four and half-hour training  will help participants understand the elements of a trauma informed approach and how to apply the principles of trauma informed care to their work. It will teach participants to recognize the body’s stress responses and the effects of primary and secondary trauma on young people and staff. The training will focus on how to support young people to thrive by building on strengths and protective factors while fostering collective resilience. The training will help advance youth wellness by exploring self-care strategies and centering relationships and collective care as vehicles to healing.  \n\nTo view a PDF version of the flyer\, please click here.\nREGISTRATION IS NOW CLOSED
URL:https://youthworkcentral.org/event/trauma-informed-care-and-self-care-for-youth/
END:VEVENT
BEGIN:VEVENT
DTSTART;TZID=UTC:20240924T093000
DTEND;TZID=UTC:20240924T150000
DTSTAMP:20260425T161409
CREATED:20240723T185521Z
LAST-MODIFIED:20240918T170003Z
UID:10000158-1727170200-1727190000@youthworkcentral.org
SUMMARY:Youth Development 101 Training
DESCRIPTION:Tuesday\, September 24th\, 2024 \n9:30 AM – 3:00 PM \nTraining Location:  \nHealth Resources In Action \n2 Boylston Street\, Boston\, MA 02116 \nTraining Fee: $275 per person \n\nA core value of our work at the BEST Initiative is Positive Youth Development. We believe in the voices and power of young people\, and train youth workers to support their youth in all areas of their growth. With that in mind\, we are offering this session of Youth Development 101\, a one-day\, 5-hour exploration of youth development principles and practices. Participants will learn how to build positive youth outcomes and Developmental Outcomes (DO’s) into their programming.  This training will also provide participants with an opportunity to explore youth participation and name strategies to build Youth Participation (YP) in their programs. \n\nTo view a PDF version of the flyer\, please click here.\nREGISTRATION IS CLOSED
URL:https://youthworkcentral.org/event/youth-development-101-training/
END:VEVENT
BEGIN:VEVENT
DTSTART;TZID=UTC:20241029T093000
DTEND;TZID=UTC:20241029T140000
DTSTAMP:20260425T161409
CREATED:20240226T195313Z
LAST-MODIFIED:20241024T154132Z
UID:10000153-1730194200-1730210400@youthworkcentral.org
SUMMARY:Motivational Interviewing Training
DESCRIPTION: Tuesday\, October 29th\, 2024 \n9:30 AM – 2:00 PM \nTraining Location: \nHealth Resources In Action \n2 Boylston Street   \nBoston\, MA 02116 \nTraining Fee: $250 per person \n\nPlease Note: Registration is on a first come\, first served basis.  Thank you for your understanding. \nA core value of our work at the BEST Initiative is Positive Youth Development. We believe in the voices and power of young people\, and train youth workers to support their youth in all areas of their growth. With that in mind\, we are offering an in-person Motivational Interviewing training\, This one-day\, 4.5-hour training will explore Motivational Interviewing as a strategy for working with young people.  In this training\, we have adapted this counseling style for youth work practitioners working in youth programs. This training is a very hands-on approach to supporting youth\, specifically in examining risky or problematic behaviors.  Participants will take away tools and activities to use with the young people that they work with.  \n\nTo view a PDF version of the flyer\, please click here.\nREGISTRATION IS CLOSED
URL:https://youthworkcentral.org/event/motivational-interviewing-training/
END:VEVENT
BEGIN:VEVENT
DTSTART;TZID=UTC:20250211T100000
DTEND;TZID=UTC:20250211T130000
DTSTAMP:20260425T161409
CREATED:20241218T202440Z
LAST-MODIFIED:20241218T202440Z
UID:10000160-1739268000-1739278800@youthworkcentral.org
SUMMARY:Building Belonging Spaces for Youth: Unpacking our Biases and Re-examining our Program Practices
DESCRIPTION:Tuesday\, February 11th\, 2025- Wednesday\, February 12th\, 2025 \n10:00 AM – 1:00 PM \nTraining Location: \nOnline via Zoom \nTraining Fee: $200 per person \n\nPlease Note: Registration is on a first come\, first served basis.  Thank you for your understanding. \nThe training will equip participants with the knowledge and skills to be able to recognize their own biases\, what their biases are rooted in\, and how they can overcome them. On a larger scale\, we will discuss how unpacking our biases and being culturally inclusive can promote a culture of equity. We will then look at our own program practices to see where and how we can be more inclusive. When we begin to disrupt the systems that have continued to perpetuate inequities\, we are able to promote more just strategies in our work. \n\nTo view a PDF version of the flyer\, please click here.\nREGISTRATION IS OPEN
URL:https://youthworkcentral.org/event/building-belonging-spaces-for-youth-unpacking-our-biases-and-re-examining-our-program-practices/
END:VEVENT
BEGIN:VEVENT
DTSTART;TZID=UTC:20250325T093000
DTEND;TZID=UTC:20250325T140000
DTSTAMP:20260425T161409
CREATED:20241218T202415Z
LAST-MODIFIED:20250303T185754Z
UID:10000159-1742895000-1742911200@youthworkcentral.org
SUMMARY:Youth Worker Certificate Training
DESCRIPTION:Weekly\, every Tuesday  \nMarch 25th – May 20th\, 2025 \n*No training April 22nd\, 2025 \n9:30 AM – 2:00 PM \nTraining Location:  \nHealth Resources in Action \n2 Boylston Street\, 4th Floor \nBoston\, MA 02116 \nTraining Fee: $750 per person \n\nPlease Note: Registration is on a first come\, first served basis.  Thank you for your understanding. \nA core value of our work at the BEST Initiative is positive youth development. We believe in the voices and power of young people\, and train youth workers to support their youth in all areas of their growth. With that in mind\, we are offering an in-person comprehensive Youth Worker Certificate Training. This eight-session\, 32-hour training is based on the nationally recognized advancing youth development curriculum. This training provides participants with grounding in the positive youth development approach. Participants are introduced to shared frameworks for discussing youth development\, and will explore information about positive youth outcomes\, healthy relationships and boundaries\, cultural responsiveness\, trauma informed practices\, collective resilience\, and other critical issues. \n\nTo view a PDF version of the flyer\, please click here.\nREGISTRATION IS OPEN 
URL:https://youthworkcentral.org/event/youth-worker-certificate-training-3/
END:VEVENT
BEGIN:VEVENT
DTSTART;VALUE=DATE:20250818
DTEND;VALUE=DATE:20250823
DTSTAMP:20260425T161409
CREATED:20250430T141042Z
LAST-MODIFIED:20250818T184717Z
UID:10000162-1755475200-1755907199@youthworkcentral.org
SUMMARY:Youth Worker Certificate Training
DESCRIPTION:August 18th – August 22nd\, 2025 \n9:30 AM – 4:30 PM \nTraining Location:  \nHealth Resources in Action \n2 Boylston Street\, 4th Floor \nBoston\, MA 02116 \nTraining Fee: $925 per person \nWe’re excited to share that this training is now eligible for full reimbursement through the Massachusetts Workforce Training Fund Express Program. If your organization is a Massachusetts-based nonprofit with fewer than 100 employees\, it may qualify! If your organization does not qualify for reimbursement\, a discounted rate is available.\nPlease click here to view the infographic outlining next steps for reimbursement.\n\nA core value of our work at the BEST Initiative is positive youth development. We believe in the voices and power of young people\, and train youth workers to support their youth in all areas of their growth. With that in mind\, we are offering an in-person intensive Youth Worker Certificate Training. This 32-hour training provides youth workers with the tools and knowledge to better support the young people they serve. Participants will dive into key topics such as positive youth outcomes\, trauma-informed practices\, collective resilience\, increasing youth participation and engagement\, and other critical issues impacting youth work. \n\nTo see a PDF version of the training flyer\, please click here.\nREGISTRATION IS OPEN!\nPlease Note: Registration is on a first come\, first served basis.  We limit 3 people per organization. Thank you for your understanding. 
URL:https://youthworkcentral.org/event/082025/
END:VEVENT
BEGIN:VEVENT
DTSTART;TZID=UTC:20251016T100000
DTEND;TZID=UTC:20251016T130000
DTSTAMP:20260425T161409
CREATED:20250821T181600Z
LAST-MODIFIED:20251015T150228Z
UID:10000164-1760608800-1760619600@youthworkcentral.org
SUMMARY:Parent/Caregiver Engagement
DESCRIPTION:October 16th\, 2025 \n10 AM – 1 PM \nTraining Location:  \nHealth Resources in Action \n2 Boylston Street\, 4th Floor \nBoston\, MA 02116 \nTraining Fee: $200 per person \nThis 3-hour training explores strategies to foster meaningful engagement of parents and caregivers in out-of-school time (OST) programs. Grounded in a youth development framework\, participants will learn how to apply a strength-based approach to relationship-building with parents and caregivers. This training will also provide practical strategies for cultivating trust and collaboration with parents and caregivers over time. \nWe’re excited to share that this training is now eligible for full reimbursement through the Massachusetts Workforce Training Fund Express Program. If your organization is a Massachusetts-based nonprofit with fewer than 100 employees\, it may qualify!\nPlease click here to view the infographic outlining next steps for reimbursement.\nTo see a PDF version of the training flyer\, please click here.\nREGISTRATION IS OPEN!\nPlease Note: Registration is on a first come\, first served basis.  We limit 3 people per organization. Thank you for your understanding. 
URL:https://youthworkcentral.org/event/parent-caregiver-engagement/
ATTACH;FMTTYPE=image/jpeg:https://youthworkcentral.org/wp-content/uploads/0192_Best_Initiative_192-scaled-e1757083071285.jpg
END:VEVENT
BEGIN:VEVENT
DTSTART;TZID=UTC:20251113T100000
DTEND;TZID=UTC:20251113T143000
DTSTAMP:20260425T161409
CREATED:20250828T191659Z
LAST-MODIFIED:20251112T155344Z
UID:10000165-1763028000-1763044200@youthworkcentral.org
SUMMARY:Youth Development 101
DESCRIPTION:November 13th\, 2025 \n10 AM – 2:30 PM \nTraining Location:  \nHealth Resources in Action \n2 Boylston Street\, 4th Floor \nBoston\, MA 02116 \nTraining Fee: $250 per person \nThis 4.5-hour training provides participants with grounding in the Positive Youth Development (PYD) approach\, including a focus on building positive developmental outcomes for youth.  Participants will gain common language and frameworks for discussing youth development including positive youth outcomes\, developmental outcomes\, and increasing youth participation in their programs. \nTo see a PDF version of the training flyer\, please click here.\nREGISTRATION IS OPEN!\nPlease Note: Registration is on a first come\, first served basis.  We limit 3 people per organization. Thank you for your understanding. 
URL:https://youthworkcentral.org/event/youth-development-101-3/
ATTACH;FMTTYPE=image/jpeg:https://youthworkcentral.org/wp-content/uploads/0044_Best_Initiative_044-scaled.jpg
END:VEVENT
BEGIN:VEVENT
DTSTART;TZID=UTC:20260113T100000
DTEND;TZID=UTC:20260115T130000
DTSTAMP:20260425T161409
CREATED:20250828T191808Z
LAST-MODIFIED:20260112T204231Z
UID:10000166-1768298400-1768482000@youthworkcentral.org
SUMMARY:Supervising Youth Training
DESCRIPTION:January 13th and January 15th\, 2026 \n10 AM – 1 PM \nTraining Location:  \nOnline via Zoom \nTraining Fee: $300 per person \nThis two-session\, 6-hour virtual training will provide adults who supervise youth with best practices for finding the right balance between helping youth gain developmental outcomes while also meeting job expectations. Participants will learn about building developmental outcomes for youth\, the four leadership styles of supervision and how to use both frameworks to help youth employees thrive. \nWe’re excited to share that this training is now eligible for full reimbursement through the Massachusetts Workforce Training Fund Express Program. If your organization is a Massachusetts-based nonprofit with fewer than 100 employees\, it may qualify!\nPlease click here to view the infographic outlining next steps for reimbursement.\nTo see a PDF version of the training flyer\, please click here.\nREGISTRATION IS OPEN!\nPlease Note: Registration is on a first come\, first served basis.  We limit 3 people per organization. Thank you for your understanding. 
URL:https://youthworkcentral.org/event/supervising-youth-training-2/
ATTACH;FMTTYPE=image/jpeg:https://youthworkcentral.org/wp-content/uploads/0047_Best_Initiative_047-scaled.jpg
END:VEVENT
BEGIN:VEVENT
DTSTART;TZID=UTC:20260324T093000
DTEND;TZID=UTC:20260519T140000
DTSTAMP:20260425T161409
CREATED:20260115T195817Z
LAST-MODIFIED:20260115T200744Z
UID:10000167-1774344600-1779199200@youthworkcentral.org
SUMMARY:Youth Worker Certificate Training
DESCRIPTION:Weekly\, every Tuesday  \nMarch 24th – May 19th\, 2026 \n*No training April 21st\, 2026 \n9:30 AM – 2:00 PM \nTraining Location:  \nHealth Resources in Action \n2 Boylston Street\, 4th Floor \nBoston\, MA 02116 \nTraining Fee: $975 per person \nThis eight-session\, 32-hour training is based on the nationally recognized advancing youth development curriculum. This training provides participants with grounding in the positive youth development approach. Participants are introduced to shared frameworks for discussing youth development and will learn how to foster positive youth outcomes\, healthy relationships and boundaries\, belonging and inclusion\, collective resilience\, and other critical issues. \nWe’re excited to share that this training is now eligible for full reimbursement through the Massachusetts Workforce Training Fund Express Program. If your organization is a Massachusetts-based nonprofit with fewer than 100 employees\, it may qualify! If your organization does not qualify for reimbursement\, a discounted rate is available. To be eligible for reimbursement\, you must register for the training and apply for reimbursement by March 3rd.\nIf your organization does not qualify for reimbursement\, a discounted rate is available. Please email best@hria.org for more information.\nPlease click here to view the infographic outlining next steps for reimbursement.\nREGISTRATION IS OPEN!\n\nPlease Note: Registration is on a first come\, first served basis.  Registration fees are non-refundable but are transferrable. Please limit registration to three people per organization. Thank you for understanding.\n\nTo view a PDF version of the flyer\, please click here.
URL:https://youthworkcentral.org/event/youth-worker-certificate-training-4/
ATTACH;FMTTYPE=image/jpeg:https://youthworkcentral.org/wp-content/uploads/0007_Best_Initiative_007-scaled.jpg
END:VEVENT
END:VCALENDAR